BEGIN:VCALENDAR
VERSION:2.0
PRODID:-//Lakeside at Eagle Nest - ECPv6.15.20//NONSGML v1.0//EN
CALSCALE:GREGORIAN
METHOD:PUBLISH
X-ORIGINAL-URL:https://lakesideateaglenest.com
X-WR-CALDESC:Events for Lakeside at Eagle Nest
REFRESH-INTERVAL;VALUE=DURATION:PT1H
X-Robots-Tag:noindex
X-PUBLISHED-TTL:PT1H
BEGIN:VTIMEZONE
TZID:America/New_York
BEGIN:DAYLIGHT
TZOFFSETFROM:-0500
TZOFFSETTO:-0400
TZNAME:EDT
DTSTART:20240310T070000
END:DAYLIGHT
BEGIN:STANDARD
TZOFFSETFROM:-0400
TZOFFSETTO:-0500
TZNAME:EST
DTSTART:20241103T060000
END:STANDARD
BEGIN:DAYLIGHT
TZOFFSETFROM:-0500
TZOFFSETTO:-0400
TZNAME:EDT
DTSTART:20250309T070000
END:DAYLIGHT
BEGIN:STANDARD
TZOFFSETFROM:-0400
TZOFFSETTO:-0500
TZNAME:EST
DTSTART:20251102T060000
END:STANDARD
BEGIN:DAYLIGHT
TZOFFSETFROM:-0500
TZOFFSETTO:-0400
TZNAME:EDT
DTSTART:20260308T070000
END:DAYLIGHT
BEGIN:STANDARD
TZOFFSETFROM:-0400
TZOFFSETTO:-0500
TZNAME:EST
DTSTART:20261101T060000
END:STANDARD
END:VTIMEZONE
BEGIN:VEVENT
DTSTART;TZID=America/New_York:20250701T190000
DTEND;TZID=America/New_York:20250701T203000
DTSTAMP:20260419T193006
CREATED:20250630T143630Z
LAST-MODIFIED:20250630T145118Z
UID:517-1751396400-1751401800@lakesideateaglenest.com
SUMMARY:Blackwater Beekeepers Assoc Meeting
DESCRIPTION:
URL:https://lakesideateaglenest.com/event/blackwater-beekeepers-assoc-meeting-2/
CATEGORIES:Blackwater Beekeepers Assoc Meeting
END:VEVENT
BEGIN:VEVENT
DTSTART;TZID=America/New_York:20250704T120000
DTEND;TZID=America/New_York:20250704T150000
DTSTAMP:20260419T193006
CREATED:20250629T185447Z
LAST-MODIFIED:20250629T185447Z
UID:507-1751630400-1751641200@lakesideateaglenest.com
SUMMARY:4th of July Celebration
DESCRIPTION:
URL:https://lakesideateaglenest.com/event/4th-of-july-celebration/
END:VEVENT
BEGIN:VEVENT
DTSTART;TZID=America/New_York:20250708T190000
DTEND;TZID=America/New_York:20250708T200000
DTSTAMP:20260419T193006
CREATED:20250629T185942Z
LAST-MODIFIED:20250630T143141Z
UID:510-1752001200-1752004800@lakesideateaglenest.com
SUMMARY:HOA Meeting
DESCRIPTION:
URL:https://lakesideateaglenest.com/event/hoa-meeting/
CATEGORIES:HOA Meeting
END:VEVENT
END:VCALENDAR